BEGIN:VCALENDAR
VERSION:2.0
PRODID:-//Whispering Winds Family Campground - ECPv6.15.15//NONSGML v1.0//EN
CALSCALE:GREGORIAN
METHOD:PUBLISH
X-WR-CALNAME:Whispering Winds Family Campground
X-ORIGINAL-URL:http://www.whisperingwindscampground.ca
X-WR-CALDESC:Events for Whispering Winds Family Campground
REFRESH-INTERVAL;VALUE=DURATION:PT1H
X-Robots-Tag:noindex
X-PUBLISHED-TTL:PT1H
BEGIN:VTIMEZONE
TZID:America/Halifax
BEGIN:DAYLIGHT
TZOFFSETFROM:-0400
TZOFFSETTO:-0300
TZNAME:ADT
DTSTART:20240310T060000
END:DAYLIGHT
BEGIN:STANDARD
TZOFFSETFROM:-0300
TZOFFSETTO:-0400
TZNAME:AST
DTSTART:20241103T050000
END:STANDARD
BEGIN:DAYLIGHT
TZOFFSETFROM:-0400
TZOFFSETTO:-0300
TZNAME:ADT
DTSTART:20250309T060000
END:DAYLIGHT
BEGIN:STANDARD
TZOFFSETFROM:-0300
TZOFFSETTO:-0400
TZNAME:AST
DTSTART:20251102T050000
END:STANDARD
BEGIN:DAYLIGHT
TZOFFSETFROM:-0400
TZOFFSETTO:-0300
TZNAME:ADT
DTSTART:20260308T060000
END:DAYLIGHT
BEGIN:STANDARD
TZOFFSETFROM:-0300
TZOFFSETTO:-0400
TZNAME:AST
DTSTART:20261101T050000
END:STANDARD
END:VTIMEZONE
BEGIN:VEVENT
DTSTART;TZID=America/Halifax:20250628T183000
DTEND;TZID=America/Halifax:20250628T200000
DTSTAMP:20260422T161634
CREATED:20250403T191124Z
LAST-MODIFIED:20250403T191554Z
UID:1253-1751135400-1751140800@www.whisperingwindscampground.ca
SUMMARY:Kids Dance
DESCRIPTION:
URL:http://www.whisperingwindscampground.ca/event/kids-dance-4/
END:VEVENT
BEGIN:VEVENT
DTSTART;TZID=America/Halifax:20250628T213000
DTEND;TZID=America/Halifax:20250628T213000
DTSTAMP:20260422T161634
CREATED:20250403T191205Z
LAST-MODIFIED:20250403T191205Z
UID:1255-1751146200-1751146200@www.whisperingwindscampground.ca
SUMMARY:Adult Dance
DESCRIPTION:With band\, Quicksilver
URL:http://www.whisperingwindscampground.ca/event/adult-dance-18/
END:VEVENT
END:VCALENDAR