BEGIN:VCALENDAR
VERSION:2.0
PRODID:-//Whispering Winds Family Campground - ECPv6.15.15//NONSGML v1.0//EN
CALSCALE:GREGORIAN
METHOD:PUBLISH
X-ORIGINAL-URL:http://www.whisperingwindscampground.ca
X-WR-CALDESC:Events for Whispering Winds Family Campground
REFRESH-INTERVAL;VALUE=DURATION:PT1H
X-Robots-Tag:noindex
X-PUBLISHED-TTL:PT1H
BEGIN:VTIMEZONE
TZID:America/Halifax
BEGIN:DAYLIGHT
TZOFFSETFROM:-0400
TZOFFSETTO:-0300
TZNAME:ADT
DTSTART:20240310T060000
END:DAYLIGHT
BEGIN:STANDARD
TZOFFSETFROM:-0300
TZOFFSETTO:-0400
TZNAME:AST
DTSTART:20241103T050000
END:STANDARD
BEGIN:DAYLIGHT
TZOFFSETFROM:-0400
TZOFFSETTO:-0300
TZNAME:ADT
DTSTART:20250309T060000
END:DAYLIGHT
BEGIN:STANDARD
TZOFFSETFROM:-0300
TZOFFSETTO:-0400
TZNAME:AST
DTSTART:20251102T050000
END:STANDARD
BEGIN:DAYLIGHT
TZOFFSETFROM:-0400
TZOFFSETTO:-0300
TZNAME:ADT
DTSTART:20260308T060000
END:DAYLIGHT
BEGIN:STANDARD
TZOFFSETFROM:-0300
TZOFFSETTO:-0400
TZNAME:AST
DTSTART:20261101T050000
END:STANDARD
END:VTIMEZONE
BEGIN:VEVENT
DTSTART;VALUE=DATE:20250701
DTEND;VALUE=DATE:20250702
DTSTAMP:20260422T131305
CREATED:20250403T191856Z
LAST-MODIFIED:20250403T192019Z
UID:1269-1751328000-1751414399@www.whisperingwindscampground.ca
SUMMARY:Canada Day
DESCRIPTION:Shubie Hay Days and family bbq & cake at the family pool
URL:http://www.whisperingwindscampground.ca/event/canada-day-4/
END:VEVENT
BEGIN:VEVENT
DTSTART;VALUE=DATE:20250712
DTEND;VALUE=DATE:20250713
DTSTAMP:20260422T131305
CREATED:20250403T191932Z
LAST-MODIFIED:20250403T191932Z
UID:1271-1752278400-1752364799@www.whisperingwindscampground.ca
SUMMARY:Christmas in July
DESCRIPTION:
URL:http://www.whisperingwindscampground.ca/event/christmas-in-july-9/
END:VEVENT
BEGIN:VEVENT
DTSTART;TZID=America/Halifax:20250712T183000
DTEND;TZID=America/Halifax:20250712T200000
DTSTAMP:20260422T131305
CREATED:20250403T192106Z
LAST-MODIFIED:20250403T192106Z
UID:1274-1752345000-1752350400@www.whisperingwindscampground.ca
SUMMARY:Kids Dance
DESCRIPTION:
URL:http://www.whisperingwindscampground.ca/event/kids-dance-6/
END:VEVENT
BEGIN:VEVENT
DTSTART;TZID=America/Halifax:20250712T213000
DTEND;TZID=America/Halifax:20250712T213000
DTSTAMP:20260422T131305
CREATED:20250403T192137Z
LAST-MODIFIED:20250403T192137Z
UID:1276-1752355800-1752355800@www.whisperingwindscampground.ca
SUMMARY:Adult Dance
DESCRIPTION:
URL:http://www.whisperingwindscampground.ca/event/adult-dance-20/
END:VEVENT
BEGIN:VEVENT
DTSTART;VALUE=DATE:20250713
DTEND;VALUE=DATE:20250714
DTSTAMP:20260422T131305
CREATED:20250403T192231Z
LAST-MODIFIED:20250403T192231Z
UID:1278-1752364800-1752451199@www.whisperingwindscampground.ca
SUMMARY:Waffles On My Mind
DESCRIPTION:
URL:http://www.whisperingwindscampground.ca/event/waffles-on-my-mind-6/
END:VEVENT
END:VCALENDAR