BEGIN:VCALENDAR
VERSION:2.0
PRODID:-//Whispering Winds Family Campground - ECPv6.15.15//NONSGML v1.0//EN
CALSCALE:GREGORIAN
METHOD:PUBLISH
X-WR-CALNAME:Whispering Winds Family Campground
X-ORIGINAL-URL:http://www.whisperingwindscampground.ca
X-WR-CALDESC:Events for Whispering Winds Family Campground
REFRESH-INTERVAL;VALUE=DURATION:PT1H
X-Robots-Tag:noindex
X-PUBLISHED-TTL:PT1H
BEGIN:VTIMEZONE
TZID:America/Halifax
BEGIN:DAYLIGHT
TZOFFSETFROM:-0400
TZOFFSETTO:-0300
TZNAME:ADT
DTSTART:20240310T060000
END:DAYLIGHT
BEGIN:STANDARD
TZOFFSETFROM:-0300
TZOFFSETTO:-0400
TZNAME:AST
DTSTART:20241103T050000
END:STANDARD
BEGIN:DAYLIGHT
TZOFFSETFROM:-0400
TZOFFSETTO:-0300
TZNAME:ADT
DTSTART:20250309T060000
END:DAYLIGHT
BEGIN:STANDARD
TZOFFSETFROM:-0300
TZOFFSETTO:-0400
TZNAME:AST
DTSTART:20251102T050000
END:STANDARD
BEGIN:DAYLIGHT
TZOFFSETFROM:-0400
TZOFFSETTO:-0300
TZNAME:ADT
DTSTART:20260308T060000
END:DAYLIGHT
BEGIN:STANDARD
TZOFFSETFROM:-0300
TZOFFSETTO:-0400
TZNAME:AST
DTSTART:20261101T050000
END:STANDARD
END:VTIMEZONE
BEGIN:VEVENT
DTSTART;VALUE=DATE:20250905
DTEND;VALUE=DATE:20250906
DTSTAMP:20260422T082013
CREATED:20250404T145141Z
LAST-MODIFIED:20250404T145141Z
UID:1302-1757030400-1757116799@www.whisperingwindscampground.ca
SUMMARY:Last Night of Darts
DESCRIPTION:
URL:http://www.whisperingwindscampground.ca/event/last-night-of-darts/
END:VEVENT
BEGIN:VEVENT
DTSTART;VALUE=DATE:20250906
DTEND;VALUE=DATE:20250907
DTSTAMP:20260422T082013
CREATED:20250404T145216Z
LAST-MODIFIED:20250404T145216Z
UID:1304-1757116800-1757203199@www.whisperingwindscampground.ca
SUMMARY:Year End Meeting
DESCRIPTION:
URL:http://www.whisperingwindscampground.ca/event/year-end-meeting-3/
END:VEVENT
BEGIN:VEVENT
DTSTART;VALUE=DATE:20250913
DTEND;VALUE=DATE:20250914
DTSTAMP:20260422T082013
CREATED:20250404T145242Z
LAST-MODIFIED:20250404T145242Z
UID:1306-1757721600-1757807999@www.whisperingwindscampground.ca
SUMMARY:Kids Year End
DESCRIPTION:
URL:http://www.whisperingwindscampground.ca/event/kids-year-end-7/
END:VEVENT
BEGIN:VEVENT
DTSTART;VALUE=DATE:20250920
DTEND;VALUE=DATE:20250921
DTSTAMP:20260422T082013
CREATED:20250808T154800Z
LAST-MODIFIED:20250808T154800Z
UID:1311-1758326400-1758412799@www.whisperingwindscampground.ca
SUMMARY:Adult Year End
DESCRIPTION:With band 4 Way Stop \nDiggs supper
URL:http://www.whisperingwindscampground.ca/event/adult-year-end-9/
END:VEVENT
END:VCALENDAR